BEGIN:VCALENDAR
VERSION:2.0
PRODID:-//datatec.eu//dataTec Event Planer
CALSCALE:GREGORIAN
BEGIN:VEVENT
DTSTAMP:20260922T000000Z
UID:f6c624a6c444e855fe378a94392468a1@datatec.eu
DTSTART;VALUE=DATE:20260922
DTEND;VALUE=DATE:20260923
SUMMARY:Norm VDE 0113 / DIN EN 60204, Tagesseminar in Reutlingen
URL:https://www.datatec.eu/datatec-0113-rt-260922
DESCRIPTION:Professionelles Seminar am 22. September 2026 in Reutlingen üb
 er Inhalte der Normen VDE 0113 / EN60204 - Prüfung von Maschin
 en in Zusammenarbeit mit dem etz-Stuttgart (0113_RT_260922).
LOCATION:Reutlingen
BEGIN:VALARM
TRIGGER:-P21D
ACTION:DISPLAY
DESCRIPTION:In 21 Tagen beginnt Ihre Veranstaltung: Norm VDE 0113 / DIN EN
  60204, Tagesseminar in Reutlingen
END:VALARM
BEGIN:VALARM
TRIGGER:-P3D
ACTION:DISPLAY
DESCRIPTION:In 3 Tagen beginnt Ihre Veranstaltung: Norm VDE 0113 / DIN EN 
 60204, Tagesseminar in Reutlingen
END:VALARM
END:VEVENT
END:VCALENDAR