BEGIN:VCALENDAR
VERSION:2.0
PRODID:-//datatec.eu//dataTec Event Planer
CALSCALE:GREGORIAN
BEGIN:VEVENT
DTSTAMP:20260617T000000Z
UID:eb61fdb453b92697f2acc12f33611af5@datatec.eu
DTSTART;VALUE=DATE:20260617
DTEND;VALUE=DATE:20260618
SUMMARY:Softwareseminar IZYTRONIQ für ortsfeste Objekte in Reutlingen,
 
  17.06.2026
URL:https://www.datatec.eu/gossen-metrawatt-gtt1223-rt-260617
DESCRIPTION:Gossen Metrawatt Softwareseminar IZYTRONIQ | Für ortsfeste Obj
 ekte in Reutlingen, 17.06.2026 (GTT1223_RT_260617).
LOCATION:Reutlingen
BEGIN:VALARM
TRIGGER:-P21D
ACTION:DISPLAY
DESCRIPTION:In 21 Tagen beginnt Ihre Veranstaltung: Softwareseminar IZYTRO
 NIQ für ortsfeste Objekte in Reutlingen,
  17.06.2026
END:VALARM
BEGIN:VALARM
TRIGGER:-P3D
ACTION:DISPLAY
DESCRIPTION:In 3 Tagen beginnt Ihre Veranstaltung: Softwareseminar IZYTRON
 IQ für ortsfeste Objekte in Reutlingen,
  17.06.2026
END:VALARM
END:VEVENT
END:VCALENDAR