BEGIN:VCALENDAR
VERSION:2.0
PRODID:-//datatec.eu//dataTec Event Planer
CALSCALE:GREGORIAN
BEGIN:VEVENT
DTSTAMP:20260727T000000Z
UID:e7141b290268c5899b17a8fc1243595a@datatec.eu
DTSTART;VALUE=DATE:20260727
DTEND;VALUE=DATE:20260728
SUMMARY:Gossen Profitest MF / Master-Serie »der Führerschein« 1/2 Tag,
 
  von 13:00 - 17:00 Uhr
URL:https://www.datatec.eu/datatec-fs-pt-rt-260727
DESCRIPTION:Professionelles Halbtagesseminar Theorie und Praxis zur Handha
 bung Ihres VDE Prüfgeräts Gossen Metrawatt PROFITEST MF- / Mas
 ter-Serie – Gerätetester »Führerschein« am 27. Juli 2026 in Re
 utlingen.
LOCATION:Reutlingen
BEGIN:VALARM
TRIGGER:-P21D
ACTION:DISPLAY
DESCRIPTION:In 21 Tagen beginnt Ihre Veranstaltung: Gossen Profitest MF / 
 Master-Serie »der Führerschein« 1/2 Tag,
  von 13:00 - 17:00 
 Uhr
END:VALARM
BEGIN:VALARM
TRIGGER:-P3D
ACTION:DISPLAY
DESCRIPTION:In 3 Tagen beginnt Ihre Veranstaltung: Gossen Profitest MF / M
 aster-Serie »der Führerschein« 1/2 Tag,
  von 13:00 - 17:00 U
 hr
END:VALARM
END:VEVENT
END:VCALENDAR