BEGIN:VCALENDAR
VERSION:2.0
PRODID:-//datatec.eu//dataTec Event Planer
CALSCALE:GREGORIAN
BEGIN:VEVENT
DTSTAMP:20261124T000000Z
UID:e50841276dc6494280d2fc86793a93db@datatec.eu
DTSTART;VALUE=DATE:20261124
DTEND;VALUE=DATE:20261125
SUMMARY:Norm VDE 0113 / DIN EN 60204, Tagesseminar in Reutlingen
URL:https://www.datatec.eu/datatec-0113-rt-261124
DESCRIPTION:Professionelles Seminar am 24. November 2026 in Reutlingen übe
 r Inhalte der Normen VDE 0113 / EN60204 - Prüfung von Maschine
 n in Zusammenarbeit mit dem etz-Stuttgart (0113_RT_261124).
LOCATION:Reutlingen
BEGIN:VALARM
TRIGGER:-P21D
ACTION:DISPLAY
DESCRIPTION:In 21 Tagen beginnt Ihre Veranstaltung: Norm VDE 0113 / DIN EN
  60204, Tagesseminar in Reutlingen
END:VALARM
BEGIN:VALARM
TRIGGER:-P3D
ACTION:DISPLAY
DESCRIPTION:In 3 Tagen beginnt Ihre Veranstaltung: Norm VDE 0113 / DIN EN 
 60204, Tagesseminar in Reutlingen
END:VALARM
END:VEVENT
END:VCALENDAR