BEGIN:VCALENDAR
VERSION:2.0
PRODID:-//datatec.eu//dataTec Event Planer
CALSCALE:GREGORIAN
BEGIN:VEVENT
DTSTAMP:20260616T000000Z
UID:d34866dff0d7e9cfd3132513a6cf83a7@datatec.eu
DTSTART;VALUE=DATE:20260616
DTEND;VALUE=DATE:20260617
SUMMARY:Norm VDE 0113 / DIN EN 60204, Tagesseminar in Reutlingen
URL:https://www.datatec.eu/datatec-0113-rt-260616
DESCRIPTION:Professionelles Seminar am 16. Juni 2026 in Reutlingen über In
 halte der Normen VDE 0113 / EN60204 - Prüfung von Maschinen in
  Zusammenarbeit mit dem etz-Stuttgart (0113_RT_260616).
LOCATION:Reutlingen
BEGIN:VALARM
TRIGGER:-P21D
ACTION:DISPLAY
DESCRIPTION:In 21 Tagen beginnt Ihre Veranstaltung: Norm VDE 0113 / DIN EN
  60204, Tagesseminar in Reutlingen
END:VALARM
BEGIN:VALARM
TRIGGER:-P3D
ACTION:DISPLAY
DESCRIPTION:In 3 Tagen beginnt Ihre Veranstaltung: Norm VDE 0113 / DIN EN 
 60204, Tagesseminar in Reutlingen
END:VALARM
END:VEVENT
END:VCALENDAR