BEGIN:VCALENDAR
VERSION:2.0
PRODID:-//datatec.eu//dataTec Event Planer
CALSCALE:GREGORIAN
BEGIN:VEVENT
DTSTAMP:20261111T000000Z
UID:aca9b1a08186017bb9c5afe72e50e72a@datatec.eu
DTSTART;VALUE=DATE:20261111
DTEND;VALUE=DATE:20261112
SUMMARY:Gossen Profitest MF / Master-Serie »der Führerschein« 1/2 Tag,
 
  von 08:30 - 12:30 Uhr
URL:https://www.datatec.eu/datatec-fs-pt-rt-261111
DESCRIPTION:Professionelles Halbtagesseminar Theorie und Praxis zur Handha
 bung Ihres VDE Prüfgeräts Gossen Metrawatt PROFITEST MF- / Mas
 ter-Serie – Gerätetester »Führerschein« am 11. November 2026 i
 n Reutlingen.
LOCATION:Reutlingen
BEGIN:VALARM
TRIGGER:-P21D
ACTION:DISPLAY
DESCRIPTION:In 21 Tagen beginnt Ihre Veranstaltung: Gossen Profitest MF / 
 Master-Serie »der Führerschein« 1/2 Tag,
  von 08:30 - 12:30 
 Uhr
END:VALARM
BEGIN:VALARM
TRIGGER:-P3D
ACTION:DISPLAY
DESCRIPTION:In 3 Tagen beginnt Ihre Veranstaltung: Gossen Profitest MF / M
 aster-Serie »der Führerschein« 1/2 Tag,
  von 08:30 - 12:30 U
 hr
END:VALARM
END:VEVENT
END:VCALENDAR