BEGIN:VCALENDAR
VERSION:2.0
PRODID:-//datatec.eu//dataTec Event Planer
CALSCALE:GREGORIAN
BEGIN:VEVENT
DTSTAMP:20261125T000000Z
UID:938fef0beeeef6de902ec6c859669c5e@datatec.eu
DTSTART;VALUE=DATE:20261125
DTEND;VALUE=DATE:20261126
SUMMARY:Softwareseminar IZYTRONIQ für ortsfeste Objekte in Reutlingen,
 
  25.11.2026
URL:https://www.datatec.eu/gossen-metrawatt-gtt1223-rt-261125
DESCRIPTION:Gossen Metrawatt Softwareseminar IZYTRONIQ | Für ortsfeste Obj
 ekte in Reutlingen, 25.11.2026 (GTT1223_RT_261125).
LOCATION:Reutlingen
BEGIN:VALARM
TRIGGER:-P21D
ACTION:DISPLAY
DESCRIPTION:In 21 Tagen beginnt Ihre Veranstaltung: Softwareseminar IZYTRO
 NIQ für ortsfeste Objekte in Reutlingen,
  25.11.2026
END:VALARM
BEGIN:VALARM
TRIGGER:-P3D
ACTION:DISPLAY
DESCRIPTION:In 3 Tagen beginnt Ihre Veranstaltung: Softwareseminar IZYTRON
 IQ für ortsfeste Objekte in Reutlingen,
  25.11.2026
END:VALARM
END:VEVENT
END:VCALENDAR