BEGIN:VCALENDAR
VERSION:2.0
PRODID:-//datatec.eu//dataTec Event Planer
CALSCALE:GREGORIAN
BEGIN:VEVENT
DTSTAMP:20260423T000000Z
UID:8c5e00824426059f3ecfed8685f4e0f5@datatec.eu
DTSTART;VALUE=DATE:20260423
DTEND;VALUE=DATE:20260425
SUMMARY:Norm VDE 0100-600 / 0105-100 „Theorie und Praxis“ 2 Tage in Re
 
 utlingen
URL:https://www.datatec.eu/datatec-0100-rt-260423
DESCRIPTION:Professionelles 2-tägiges Praxis-Seminar am 23. + 24. April 20
 26 in Reutlingen über Inhalte der DIN Norm VDE 0100-600 / VDE 
 0105-100 - Prüfung ortsfester elektrischer Installationen und 
 Anlagen in Kooperation mit der TÜV Rheinland Akademie.
LOCATION:Reutlingen
BEGIN:VALARM
TRIGGER:-P21D
ACTION:DISPLAY
DESCRIPTION:In 21 Tagen beginnt Ihre Veranstaltung: Norm VDE 0100-600 / 01
 05-100 „Theorie und Praxis“ 2 Tage in Re
 utlingen
END:VALARM
BEGIN:VALARM
TRIGGER:-P3D
ACTION:DISPLAY
DESCRIPTION:In 3 Tagen beginnt Ihre Veranstaltung: Norm VDE 0100-600 / 010
 5-100 „Theorie und Praxis“ 2 Tage in Re
 utlingen
END:VALARM
END:VEVENT
END:VCALENDAR