BEGIN:VCALENDAR
VERSION:2.0
PRODID:-//datatec.eu//dataTec Event Planer
CALSCALE:GREGORIAN
BEGIN:VEVENT
DTSTAMP:20260922T000000Z
UID:f6c624a6c444e855fe378a94392468a1@datatec.eu
DTSTART;VALUE=DATE:20260922
DTEND;VALUE=DATE:20260923
SUMMARY:Standard VDE 0113 / DIN EN 60204, day seminar in Reutlingen
URL:https://www.datatec.eu/de/en/datatec-0113-rt-260922
DESCRIPTION:Professional seminar on September 22, 2026 in Reutlingen on th
 e content of the VDE 0113 / EN60204 standards - testing of mac
 hines in cooperation with etz-Stuttgart (0113_RT_260922).
LOCATION:Reutlingen
BEGIN:VALARM
TRIGGER:-P21D
ACTION:DISPLAY
DESCRIPTION:Event starts in 21 days: Standard VDE 0113 / DIN EN 60204, day
  seminar in Reutlingen
END:VALARM
BEGIN:VALARM
TRIGGER:-P3D
ACTION:DISPLAY
DESCRIPTION:Event starts in 3 days: Standard VDE 0113 / DIN EN 60204, day 
 seminar in Reutlingen
END:VALARM
END:VEVENT
END:VCALENDAR