BEGIN:VCALENDAR
VERSION:2.0
PRODID:-//datatec.eu//dataTec Event Planer
CALSCALE:GREGORIAN
BEGIN:VEVENT
DTSTAMP:20260727T000000Z
UID:e7141b290268c5899b17a8fc1243595a@datatec.eu
DTSTART;VALUE=DATE:20260727
DTEND;VALUE=DATE:20260728
SUMMARY:Gossen Profitest MF / Master series "the driver's license" 1/2
 
  day, from 13:00 - 17:00
URL:https://www.datatec.eu/de/en/datatec-fs-pt-rt-260727
DESCRIPTION:Professional half-day seminar theory and practice for handling
  your VDE tester Gossen Metrawatt PROFITEST MF- / Master serie
 s - appliance tester "driving license" on July 27, 2026 in Reu
 tlingen.
LOCATION:Reutlingen
BEGIN:VALARM
TRIGGER:-P21D
ACTION:DISPLAY
DESCRIPTION:Event starts in 21 days: Gossen Profitest MF / Master series "
 the driver's license" 1/2
  day, from 13:00 - 17:00
END:VALARM
BEGIN:VALARM
TRIGGER:-P3D
ACTION:DISPLAY
DESCRIPTION:Event starts in 3 days: Gossen Profitest MF / Master series "t
 he driver's license" 1/2
  day, from 13:00 - 17:00
END:VALARM
END:VEVENT
END:VCALENDAR