BEGIN:VCALENDAR
VERSION:2.0
PRODID:-//datatec.eu//dataTec Event Planer
CALSCALE:GREGORIAN
BEGIN:VEVENT
DTSTAMP:20261124T000000Z
UID:e50841276dc6494280d2fc86793a93db@datatec.eu
DTSTART;VALUE=DATE:20261124
DTEND;VALUE=DATE:20261125
SUMMARY:Standard VDE 0113 / DIN EN 60204, day seminar in Reutlingen
URL:https://www.datatec.eu/de/en/datatec-0113-rt-261124
DESCRIPTION:Professional seminar on November 24, 2026 in Reutlingen on the
  content of the VDE 0113 / EN60204 standards - testing of mach
 ines in cooperation with etz-Stuttgart (0113_RT_261124).
LOCATION:Reutlingen
BEGIN:VALARM
TRIGGER:-P21D
ACTION:DISPLAY
DESCRIPTION:Event starts in 21 days: Standard VDE 0113 / DIN EN 60204, day
  seminar in Reutlingen
END:VALARM
BEGIN:VALARM
TRIGGER:-P3D
ACTION:DISPLAY
DESCRIPTION:Event starts in 3 days: Standard VDE 0113 / DIN EN 60204, day 
 seminar in Reutlingen
END:VALARM
END:VEVENT
END:VCALENDAR