BEGIN:VCALENDAR
VERSION:2.0
PRODID:-//datatec.eu//dataTec Event Planer
CALSCALE:GREGORIAN
BEGIN:VEVENT
DTSTAMP:20260616T000000Z
UID:d34866dff0d7e9cfd3132513a6cf83a7@datatec.eu
DTSTART;VALUE=DATE:20260616
DTEND;VALUE=DATE:20260617
SUMMARY:Standard VDE 0113 / DIN EN 60204, day seminar in Reutlingen
URL:https://www.datatec.eu/de/en/datatec-0113-rt-260616
DESCRIPTION:Professional seminar on June 16, 2026 in Reutlingen on the con
 tent of the VDE 0113 / EN60204 standards - testing of machines
  in cooperation with etz-Stuttgart (0113_RT_260616).
LOCATION:Reutlingen
BEGIN:VALARM
TRIGGER:-P21D
ACTION:DISPLAY
DESCRIPTION:Event starts in 21 days: Standard VDE 0113 / DIN EN 60204, day
  seminar in Reutlingen
END:VALARM
BEGIN:VALARM
TRIGGER:-P3D
ACTION:DISPLAY
DESCRIPTION:Event starts in 3 days: Standard VDE 0113 / DIN EN 60204, day 
 seminar in Reutlingen
END:VALARM
END:VEVENT
END:VCALENDAR