BEGIN:VCALENDAR
VERSION:2.0
PRODID:-//datatec.eu//dataTec Event Planer
CALSCALE:GREGORIAN
BEGIN:VEVENT
DTSTAMP:20261111T000000Z
UID:aca9b1a08186017bb9c5afe72e50e72a@datatec.eu
DTSTART;VALUE=DATE:20261111
DTEND;VALUE=DATE:20261112
SUMMARY:Gossen Profitest MF / Master series "the driver's license" 1/2
 
  day, from 08:30 - 12:30
URL:https://www.datatec.eu/de/en/datatec-fs-pt-rt-261111
DESCRIPTION:Professional half-day seminar theory and practice for handling
  your VDE tester Gossen Metrawatt PROFITEST MF- / Master serie
 s - appliance tester "driving license" on November 11, 2026 in
  Reutlingen.
LOCATION:Reutlingen
BEGIN:VALARM
TRIGGER:-P21D
ACTION:DISPLAY
DESCRIPTION:Event starts in 21 days: Gossen Profitest MF / Master series "
 the driver's license" 1/2
  day, from 08:30 - 12:30
END:VALARM
BEGIN:VALARM
TRIGGER:-P3D
ACTION:DISPLAY
DESCRIPTION:Event starts in 3 days: Gossen Profitest MF / Master series "t
 he driver's license" 1/2
  day, from 08:30 - 12:30
END:VALARM
END:VEVENT
END:VCALENDAR