BEGIN:VCALENDAR
VERSION:2.0
PRODID:-//datatec.eu//dataTec Event Planer
CALSCALE:GREGORIAN
BEGIN:VEVENT
DTSTAMP:20260423T000000Z
UID:8c5e00824426059f3ecfed8685f4e0f5@datatec.eu
DTSTART;VALUE=DATE:20260423
DTEND;VALUE=DATE:20260425
SUMMARY:Standard VDE 0100-600 / 0105-100 “Theory and Practice” 2 days 
 
 in Reutlingen
URL:https://www.datatec.eu/de/en/datatec-0100-rt-260423
DESCRIPTION:Professional 2-day practical seminar on April 23 + 24, 2026 in
  Reutlingen on the contents of the DIN standard VDE 0100-600 /
  VDE 0105-100 - Testing of stationary electrical installations
  and systems in cooperation with TÜV Rheinland Akademie.
LOCATION:Reutlingen
BEGIN:VALARM
TRIGGER:-P21D
ACTION:DISPLAY
DESCRIPTION:Event starts in 21 days: Standard VDE 0100-600 / 0105-100 “The
 ory and Practice” 2 days 
 in Reutlingen
END:VALARM
BEGIN:VALARM
TRIGGER:-P3D
ACTION:DISPLAY
DESCRIPTION:Event starts in 3 days: Standard VDE 0100-600 / 0105-100 “Theo
 ry and Practice” 2 days 
 in Reutlingen
END:VALARM
END:VEVENT
END:VCALENDAR