BEGIN:VCALENDAR
VERSION:2.0
PRODID:-//datatec.eu//dataTec Event Planer
CALSCALE:GREGORIAN
BEGIN:VEVENT
DTSTAMP:20260721T000000Z
UID:839210be898317a04ad15fcb8e5c40bf@datatec.eu
DTSTART;VALUE=DATE:20260721
DTEND;VALUE=DATE:20260724
SUMMARY:Seminar Professional test with IZYTRONIQ test task according t
 
 o VDE 0100 in Reutlingen, 21-23.07.2026
URL:https://www.datatec.eu/de/en/gossen-metrawatt-gtt6500-rt-260721
DESCRIPTION:Gossen Metrawatt seminar Profitest with IZYTRONIQ | Test task 
 according to VDE 0100 in Reutlingen, 21-23.07.2026 (GTT6500_RT
 _260721).
LOCATION:Reutlingen
BEGIN:VALARM
TRIGGER:-P21D
ACTION:DISPLAY
DESCRIPTION:Event starts in 21 days: Seminar Professional test with IZYTRO
 NIQ test task according t
 o VDE 0100 in Reutlingen, 21-23.07
 .2026
END:VALARM
BEGIN:VALARM
TRIGGER:-P3D
ACTION:DISPLAY
DESCRIPTION:Event starts in 3 days: Seminar Professional test with IZYTRON
 IQ test task according t
 o VDE 0100 in Reutlingen, 21-23.07.
 2026
END:VALARM
END:VEVENT
END:VCALENDAR