BEGIN:VCALENDAR
VERSION:2.0
PRODID:-//datatec.eu//dataTec Event Planer
CALSCALE:GREGORIAN
BEGIN:VEVENT
DTSTAMP:20260428T000000Z
UID:816c25eeb6fafd667c7a2fe066f045b5@datatec.eu
DTSTART;VALUE=DATE:20260428
DTEND;VALUE=DATE:20260429
SUMMARY:Gossen Profitest MF / Master series "the driver's license" 1/2
 
  day, from 08:30 - 12:30
URL:https://www.datatec.eu/de/en/datatec-fs-pt-rt-260428
DESCRIPTION:Professional half-day seminar theory and practice for handling
  your VDE tester Gossen Metrawatt PROFITEST MF- / Master serie
 s - appliance tester "driving license" on April 28, 2026 in Re
 utlingen.
LOCATION:Reutlingen
BEGIN:VALARM
TRIGGER:-P21D
ACTION:DISPLAY
DESCRIPTION:Event starts in 21 days: Gossen Profitest MF / Master series "
 the driver's license" 1/2
  day, from 08:30 - 12:30
END:VALARM
BEGIN:VALARM
TRIGGER:-P3D
ACTION:DISPLAY
DESCRIPTION:Event starts in 3 days: Gossen Profitest MF / Master series "t
 he driver's license" 1/2
  day, from 08:30 - 12:30
END:VALARM
END:VEVENT
END:VCALENDAR