BEGIN:VCALENDAR
VERSION:2.0
PRODID:-//datatec.eu//dataTec Event Planer
CALSCALE:GREGORIAN
BEGIN:VEVENT
DTSTAMP:20261110T000000UTC
UID:019bb24b05677a598c6fcb6d7a78f2d4@datatec.eu
DTSTART;VALUE=DATE:20261110
DTEND;VALUE=DATE:20261114
SUMMARY:Salon electronica de Munich 2026
URL:https://electronica.de/en/
LOCATION:Salon professionnel de Munich
BEGIN:VALARM
TRIGGER:-P21D
ACTION:DISPLAY
DESCRIPTION:Votre événement commence dans 21 jours : Salon electronica de 
 Munich 2026
END:VALARM
BEGIN:VALARM
TRIGGER:-P3D
ACTION:DISPLAY
DESCRIPTION:Votre événement commence dans 3 jours : Salon electronica de M
 unich 2026
END:VALARM
END:VEVENT
END:VCALENDAR