BEGIN:VCALENDAR
VERSION:2.0
PRODID:-//datatec.eu//dataTec Event Planer
CALSCALE:GREGORIAN
BEGIN:VEVENT
DTSTAMP:20260507T000000Z
UID:fe3e27f47e6682631ee7a9702be5b869@datatec.eu
DTSTART;VALUE=DATE:20260507
DTEND;VALUE=DATE:20260509
SUMMARY:Cours de base LabVIEW Core 2 à Vienne, 2 jours, de 08h30 à 16h
 
 30
URL:https://www.datatec.eu/ch/fr/ni-lv2-w-260507
DESCRIPTION:Séminaire NI LabVIEW Core 2 | Cours de base LabVIEW 2 avec ins
 tructeur à Vienne, séminaire de 2 jours 07 - 08 mai 2026 (LV2_
 RT_260507).
LOCATION:Vienne
BEGIN:VALARM
TRIGGER:-P21D
ACTION:DISPLAY
DESCRIPTION:In 21 Tagen beginnt Ihre Veranstaltung: Cours de base LabVIEW 
 Core 2 à Vienne, 2 jours, de 08h30 à 16h
 30
END:VALARM
BEGIN:VALARM
TRIGGER:-P3D
ACTION:DISPLAY
DESCRIPTION:In 3 Tagen beginnt Ihre Veranstaltung: Cours de base LabVIEW C
 ore 2 à Vienne, 2 jours, de 08h30 à 16h
 30
END:VALARM
END:VEVENT
END:VCALENDAR