BEGIN:VCALENDAR
VERSION:2.0
PRODID:-//datatec.eu//dataTec Event Planer
CALSCALE:GREGORIAN
BEGIN:VEVENT
DTSTAMP:20260504T000000Z
UID:fb548a98f1c39f89fbbb9453c8175d36@datatec.eu
DTSTART;VALUE=DATE:20260504
DTEND;VALUE=DATE:20260508
SUMMARY:Séminaire en ligne : "Certification de catégorie 1" selon ISO1
 
 8436-7, 4 jours, en ligne du 04.05.-07.05.2026 de 09:00-17:
 00 
 heures
URL:https://www.datatec.eu/ch/fr/datatec-itc-kat1-onl-260504
DESCRIPTION:Thermographie infrarouge itc catégorie 1 selon ISO 18436-7 Sém
 inaire en ligne du 04 au 07 mai 2026.
LOCATION:En ligne
BEGIN:VALARM
TRIGGER:-P21D
ACTION:DISPLAY
DESCRIPTION:In 21 Tagen beginnt Ihre Veranstaltung: Séminaire en ligne : "
 Certification de catégorie 1" selon ISO1
 8436-7, 4 jours, en
  ligne du 04.05.-07.05.2026 de 09:00-17:00 
 heures
END:VALARM
BEGIN:VALARM
TRIGGER:-P3D
ACTION:DISPLAY
DESCRIPTION:In 3 Tagen beginnt Ihre Veranstaltung: Séminaire en ligne : "C
 ertification de catégorie 1" selon ISO1
 8436-7, 4 jours, en 
 ligne du 04.05.-07.05.2026 de 09:00-17:00 
 heures
END:VALARM
END:VEVENT
END:VCALENDAR