BEGIN:VCALENDAR
VERSION:2.0
PRODID:-//datatec.eu//dataTec Event Planer
CALSCALE:GREGORIAN
BEGIN:VEVENT
DTSTAMP:20260914T000000Z
UID:fa55b7c3de7fc60018b0c4beb3025bb2@datatec.eu
DTSTART;VALUE=DATE:20260914
DTEND;VALUE=DATE:20260920
SUMMARY:Séminaire : "ISO 9712 & examen TT niveau 1" à Francfort, 14.09
 
 . - 19.09.2026
URL:https://www.datatec.eu/ch/fr/datatec-itc-9712-f-260914
DESCRIPTION:Thermographie infrarouge itc DIN EN ISO 9712 TT niveau 1 Sémin
 aire du 14 au 19 septembre 2026 dans la région de Francfort/Ma
 in.
LOCATION:Région de Francfort
BEGIN:VALARM
TRIGGER:-P21D
ACTION:DISPLAY
DESCRIPTION:In 21 Tagen beginnt Ihre Veranstaltung: Séminaire : "ISO 9712 
 & examen TT niveau 1" à Francfort, 14.09
 . - 19.09.2026
END:VALARM
BEGIN:VALARM
TRIGGER:-P3D
ACTION:DISPLAY
DESCRIPTION:In 3 Tagen beginnt Ihre Veranstaltung: Séminaire : "ISO 9712 &
  examen TT niveau 1" à Francfort, 14.09
 . - 19.09.2026
END:VALARM
END:VEVENT
END:VCALENDAR