BEGIN:VCALENDAR
VERSION:2.0
PRODID:-//datatec.eu//dataTec Event Planer
CALSCALE:GREGORIAN
BEGIN:VEVENT
DTSTAMP:20261201T000000Z
UID:e4a0213de468c9408d09318ce5b4f2e9@datatec.eu
DTSTART;VALUE=DATE:20261201
DTEND;VALUE=DATE:20261202
SUMMARY:Thermographie / Imagerie thermique avec Teledyne Flir, séminai
 
 re d'une journée à Reutlingen
URL:https://www.datatec.eu/ch/fr/datatec-th-rt-261201
DESCRIPTION:Séminaire professionnel de thermographie / imagerie thermique 
 avec notre thermographe certifié le 1er décembre 2026 à Reutli
 ngen.
LOCATION:Reutlingen
BEGIN:VALARM
TRIGGER:-P21D
ACTION:DISPLAY
DESCRIPTION:In 21 Tagen beginnt Ihre Veranstaltung: Thermographie / Imager
 ie thermique avec Teledyne Flir, séminai
 re d'une journée à 
 Reutlingen
END:VALARM
BEGIN:VALARM
TRIGGER:-P3D
ACTION:DISPLAY
DESCRIPTION:In 3 Tagen beginnt Ihre Veranstaltung: Thermographie / Imageri
 e thermique avec Teledyne Flir, séminai
 re d'une journée à R
 eutlingen
END:VALARM
END:VEVENT
END:VCALENDAR