BEGIN:VCALENDAR
VERSION:2.0
PRODID:-//datatec.eu//dataTec Event Planer
CALSCALE:GREGORIAN
BEGIN:VEVENT
DTSTAMP:20260923T000000Z
UID:d1000274c0bc5f2cd863a9703a037a66@datatec.eu
DTSTART;VALUE=DATE:20260923
DTEND;VALUE=DATE:20260924
SUMMARY:Thermographie / Imagerie thermique avec Teledyne Flir, séminai
 
 re d'une journée à Reutlingen
URL:https://www.datatec.eu/ch/fr/datatec-th-rt-260923
DESCRIPTION:Séminaire professionnel sur la thermographie / l'imagerie ther
 mique avec notre thermographe certifié le 23 septembre 2026 à 
 Reutlingen.
LOCATION:Reutlingen
BEGIN:VALARM
TRIGGER:-P21D
ACTION:DISPLAY
DESCRIPTION:In 21 Tagen beginnt Ihre Veranstaltung: Thermographie / Imager
 ie thermique avec Teledyne Flir, séminai
 re d'une journée à 
 Reutlingen
END:VALARM
BEGIN:VALARM
TRIGGER:-P3D
ACTION:DISPLAY
DESCRIPTION:In 3 Tagen beginnt Ihre Veranstaltung: Thermographie / Imageri
 e thermique avec Teledyne Flir, séminai
 re d'une journée à R
 eutlingen
END:VALARM
END:VEVENT
END:VCALENDAR