BEGIN:VCALENDAR
VERSION:2.0
PRODID:-//datatec.eu//dataTec Event Planer
CALSCALE:GREGORIAN
BEGIN:VEVENT
DTSTAMP:20260901T000000Z
UID:bdb3d16577561a890eac707a54f5e967@datatec.eu
DTSTART;VALUE=DATE:20260901
DTEND;VALUE=DATE:20260903
SUMMARY:Séminaire : Electrothermographie Basic à Francfort du 01.09.-0
 
 2.09.2026
URL:https://www.datatec.eu/ch/fr/datatec-itc-e-basic-f-260901
DESCRIPTION:Séminaire d'électrothermographie itc BASIC | Séminaire de deux
  jours sur l'inspection thermographique des installations élec
 triques le 01 &amp ; 02 septembre 2026 dans la région de Franc
 fort/Main.
LOCATION:Région de Francfort
BEGIN:VALARM
TRIGGER:-P21D
ACTION:DISPLAY
DESCRIPTION:In 21 Tagen beginnt Ihre Veranstaltung: Séminaire : Electrothe
 rmographie Basic à Francfort du 01.09.-0
 2.09.2026
END:VALARM
BEGIN:VALARM
TRIGGER:-P3D
ACTION:DISPLAY
DESCRIPTION:In 3 Tagen beginnt Ihre Veranstaltung: Séminaire : Electrother
 mographie Basic à Francfort du 01.09.-0
 2.09.2026
END:VALARM
END:VEVENT
END:VCALENDAR