BEGIN:VCALENDAR
VERSION:2.0
PRODID:-//datatec.eu//dataTec Event Planer
CALSCALE:GREGORIAN
BEGIN:VEVENT
DTSTAMP:20260615T000000Z
UID:b7ffea46e4b8924b6c7ad936b743371a@datatec.eu
DTSTART;VALUE=DATE:20260615
DTEND;VALUE=DATE:20260621
SUMMARY:Séminaire : "ISO 9712 & examen TT niveau 1" à Francfort, 15.06
 
 . - 20.06.2026
URL:https://www.datatec.eu/ch/fr/datatec-itc-9712-f-260615
DESCRIPTION:Thermographie infrarouge itc DIN EN ISO 9712 TT niveau 1 Sémin
 aire du 15 au 20 juin 2026 dans la région de Francfort/Main.
LOCATION:Région de Francfort
BEGIN:VALARM
TRIGGER:-P21D
ACTION:DISPLAY
DESCRIPTION:In 21 Tagen beginnt Ihre Veranstaltung: Séminaire : "ISO 9712 
 & examen TT niveau 1" à Francfort, 15.06
 . - 20.06.2026
END:VALARM
BEGIN:VALARM
TRIGGER:-P3D
ACTION:DISPLAY
DESCRIPTION:In 3 Tagen beginnt Ihre Veranstaltung: Séminaire : "ISO 9712 &
  examen TT niveau 1" à Francfort, 15.06
 . - 20.06.2026
END:VALARM
END:VEVENT
END:VCALENDAR