BEGIN:VCALENDAR
VERSION:2.0
PRODID:-//datatec.eu//dataTec Event Planer
CALSCALE:GREGORIAN
BEGIN:VEVENT
DTSTAMP:20261015T000000Z
UID:b55f7f59c2ab90243165e7d97ef6195c@datatec.eu
DTSTART;VALUE=DATE:20261015
DTEND;VALUE=DATE:20261017
SUMMARY:Automatisation et personnalisation du traitement des données à
 
  l'aide de DIAdem, 2 jours à Hambourg
URL:https://www.datatec.eu/ch/fr/detail/b55f7f59c2ab90243165e7d97ef6195c
DESCRIPTION:Séminaire NI DIAdem Advanced | Automating and Customizing Data
  Processing Using DIAdem, séminaire de 2 jours en présentiel a
 vec un formateur certifié, les 15 &amp ; 16 octobre 2026 à Ham
 bourg (DIADEM2_HH_261015).
LOCATION:Région de Hambourg
BEGIN:VALARM
TRIGGER:-P21D
ACTION:DISPLAY
DESCRIPTION:In 21 Tagen beginnt Ihre Veranstaltung: Automatisation et pers
 onnalisation du traitement des données à
  l'aide de DIAdem, 
 2 jours à Hambourg
END:VALARM
BEGIN:VALARM
TRIGGER:-P3D
ACTION:DISPLAY
DESCRIPTION:In 3 Tagen beginnt Ihre Veranstaltung: Automatisation et perso
 nnalisation du traitement des données à
  l'aide de DIAdem, 2
  jours à Hambourg
END:VALARM
END:VEVENT
END:VCALENDAR