BEGIN:VCALENDAR
VERSION:2.0
PRODID:-//datatec.eu//dataTec Event Planer
CALSCALE:GREGORIAN
BEGIN:VEVENT
DTSTAMP:20261207T000000Z
UID:aab172d54299e7a0c2e8522473a276df@datatec.eu
DTSTART;VALUE=DATE:20261207
DTEND;VALUE=DATE:20261212
SUMMARY:Séminaire : ITC "Certification de catégorie 2" selon ISO 18436
 
 -7
URL:https://www.datatec.eu/ch/fr/datatec-itc-kat2-f-261207
DESCRIPTION:itc thermographie infrarouge catégorie 2 selon ISO 18436-7 Sém
 inaire du 07 au 11 décembre 2026 dans la région de Francfort.
LOCATION:Région de Francfort
BEGIN:VALARM
TRIGGER:-P21D
ACTION:DISPLAY
DESCRIPTION:In 21 Tagen beginnt Ihre Veranstaltung: Séminaire : ITC "Certi
 fication de catégorie 2" selon ISO 18436
 -7
END:VALARM
BEGIN:VALARM
TRIGGER:-P3D
ACTION:DISPLAY
DESCRIPTION:In 3 Tagen beginnt Ihre Veranstaltung: Séminaire : ITC "Certif
 ication de catégorie 2" selon ISO 18436
 -7
END:VALARM
END:VEVENT
END:VCALENDAR