BEGIN:VCALENDAR
VERSION:2.0
PRODID:-//datatec.eu//dataTec Event Planer
CALSCALE:GREGORIAN
BEGIN:VEVENT
DTSTAMP:20261208T000000Z
UID:9baf6ae22f4b8dc43481b114673bf43d@datatec.eu
DTSTART;VALUE=DATE:20261208
DTEND;VALUE=DATE:20261210
SUMMARY:Séminaire : Electrothermographie Basic à Francfort du 08.12.-0
 
 9.12.2026
URL:https://www.datatec.eu/ch/fr/datatec-itc-e-basic-f-261208
DESCRIPTION:Séminaire d'électrothermographie itc BASIC | Séminaire de deux
  jours sur l'inspection thermographique des installations élec
 triques, le 08 &amp ; 09 décembre 2026 dans la région de Franc
 fort/Main.
LOCATION:Région de Francfort
BEGIN:VALARM
TRIGGER:-P21D
ACTION:DISPLAY
DESCRIPTION:In 21 Tagen beginnt Ihre Veranstaltung: Séminaire : Electrothe
 rmographie Basic à Francfort du 08.12.-0
 9.12.2026
END:VALARM
BEGIN:VALARM
TRIGGER:-P3D
ACTION:DISPLAY
DESCRIPTION:In 3 Tagen beginnt Ihre Veranstaltung: Séminaire : Electrother
 mographie Basic à Francfort du 08.12.-0
 9.12.2026
END:VALARM
END:VEVENT
END:VCALENDAR