BEGIN:VCALENDAR
VERSION:2.0
PRODID:-//datatec.eu//dataTec Event Planer
CALSCALE:GREGORIAN
BEGIN:VEVENT
DTSTAMP:20261012T000000Z
UID:95473184aa5eda7629e4e7039ef1cf67@datatec.eu
DTSTART;VALUE=DATE:20261012
DTEND;VALUE=DATE:20261015
SUMMARY:Exploring Data Interactively Using DIAdem à Hambourg le 12.10.
 
 -14.10.2026
URL:https://www.datatec.eu/ch/fr/detail/95473184aa5eda7629e4e7039ef1cf67
DESCRIPTION:Séminaire NI DIAdem Basics | Exploring Data Interactively Usin
 g DIAdem Séminaire de 3 jours en présentiel avec un formateur 
 certifié du 12 au 14 octobre 2026 à Hambourg (DIADEM1_HH_26101
 2).
LOCATION:Région de Hambourg
BEGIN:VALARM
TRIGGER:-P21D
ACTION:DISPLAY
DESCRIPTION:In 21 Tagen beginnt Ihre Veranstaltung: Exploring Data Interac
 tively Using DIAdem à Hambourg le 12.10.
 -14.10.2026
END:VALARM
BEGIN:VALARM
TRIGGER:-P3D
ACTION:DISPLAY
DESCRIPTION:In 3 Tagen beginnt Ihre Veranstaltung: Exploring Data Interact
 ively Using DIAdem à Hambourg le 12.10.
 -14.10.2026
END:VALARM
END:VEVENT
END:VCALENDAR