BEGIN:VCALENDAR
VERSION:2.0
PRODID:-//datatec.eu//dataTec Event Planer
CALSCALE:GREGORIAN
BEGIN:VEVENT
DTSTAMP:20261102T000000Z
UID:92f2c409e2cde37aa4ee8c6d199297eb@datatec.eu
DTSTART;VALUE=DATE:20261102
DTEND;VALUE=DATE:20261106
SUMMARY:Séminaire en ligne : "Certification de catégorie 1" selon ISO1
 
 8436-7, 4 jours, en ligne du 02.11.-05.11.2026 de 09:00-17:
 00
URL:https://www.datatec.eu/ch/fr/datatec-itc-kat1-onl-261102
DESCRIPTION:Thermographie infrarouge itc catégorie 1 selon ISO 18436-7 Sém
 inaire en ligne du 02 au 05 novembre 2026.
LOCATION:En ligne
BEGIN:VALARM
TRIGGER:-P21D
ACTION:DISPLAY
DESCRIPTION:In 21 Tagen beginnt Ihre Veranstaltung: Séminaire en ligne : "
 Certification de catégorie 1" selon ISO1
 8436-7, 4 jours, en
  ligne du 02.11.-05.11.2026 de 09:00-17:00
END:VALARM
BEGIN:VALARM
TRIGGER:-P3D
ACTION:DISPLAY
DESCRIPTION:In 3 Tagen beginnt Ihre Veranstaltung: Séminaire en ligne : "C
 ertification de catégorie 1" selon ISO1
 8436-7, 4 jours, en 
 ligne du 02.11.-05.11.2026 de 09:00-17:00
END:VALARM
END:VEVENT
END:VCALENDAR