BEGIN:VCALENDAR
VERSION:2.0
PRODID:-//datatec.eu//dataTec Event Planer
CALSCALE:GREGORIAN
BEGIN:VEVENT
DTSTAMP:20260611T000000Z
UID:8482e62643ed14fc493e5014654806a2@datatec.eu
DTSTART;VALUE=DATE:20260611
DTEND;VALUE=DATE:20260613
SUMMARY:Cours de base LabVIEW Core 2 à Reutlingen, 2 jours, de 08h30 à
 
  16h30
URL:https://www.datatec.eu/ch/fr/ni-lv2-rt-260611
DESCRIPTION:Séminaire NI LabVIEW Core 2 | Cours de base LabVIEW 2 avec ins
 tructeur à la dataTec Akademie à Reutlingen, séminaire de 2 jo
 urs 11-12 juin 2026 (LV2_RT_260611).
LOCATION:Reutlingen
BEGIN:VALARM
TRIGGER:-P21D
ACTION:DISPLAY
DESCRIPTION:In 21 Tagen beginnt Ihre Veranstaltung: Cours de base LabVIEW 
 Core 2 à Reutlingen, 2 jours, de 08h30 à
  16h30
END:VALARM
BEGIN:VALARM
TRIGGER:-P3D
ACTION:DISPLAY
DESCRIPTION:In 3 Tagen beginnt Ihre Veranstaltung: Cours de base LabVIEW C
 ore 2 à Reutlingen, 2 jours, de 08h30 à
  16h30
END:VALARM
END:VEVENT
END:VCALENDAR