BEGIN:VCALENDAR
VERSION:2.0
PRODID:-//datatec.eu//dataTec Event Planer
CALSCALE:GREGORIAN
BEGIN:VEVENT
DTSTAMP:20260615T000000Z
UID:8367885a0715c6324ade528a55d4aaf7@datatec.eu
DTSTART;VALUE=DATE:20260615
DTEND;VALUE=DATE:20260620
SUMMARY:Séminaire : ITC "Certification de catégorie 1" selon ISO 18436
 
 -7
URL:https://www.datatec.eu/ch/fr/datatec-itc-kat1-f-260615
DESCRIPTION:Séminaire de thermographie infrarouge itc catégorie 1 selon IS
 O 18436-7 du 15 au 19 juin 2026 dans la région de Francfort/Ma
 in.
LOCATION:Région de Francfort
BEGIN:VALARM
TRIGGER:-P21D
ACTION:DISPLAY
DESCRIPTION:In 21 Tagen beginnt Ihre Veranstaltung: Séminaire : ITC "Certi
 fication de catégorie 1" selon ISO 18436
 -7
END:VALARM
BEGIN:VALARM
TRIGGER:-P3D
ACTION:DISPLAY
DESCRIPTION:In 3 Tagen beginnt Ihre Veranstaltung: Séminaire : ITC "Certif
 ication de catégorie 1" selon ISO 18436
 -7
END:VALARM
END:VEVENT
END:VCALENDAR