BEGIN:VCALENDAR
VERSION:2.0
PRODID:-//datatec.eu//dataTec Event Planer
CALSCALE:GREGORIAN
BEGIN:VEVENT
DTSTAMP:20260609T000000Z
UID:7719e3ab2f9e2c5744f171c017cfb57d@datatec.eu
DTSTART;VALUE=DATE:20260609
DTEND;VALUE=DATE:20260611
SUMMARY:Séminaire : itc Photovoltaik Basic à Francfort le 09.06. - 10.
 
 06.2026
URL:https://www.datatec.eu/ch/fr/datatec-itc-pv-f-260609
DESCRIPTION:Séminaire itc Photovoltaik Basic le 09 &amp ; 10 juin 2026 à F
 rancfort.
LOCATION:Région de Francfort
BEGIN:VALARM
TRIGGER:-P21D
ACTION:DISPLAY
DESCRIPTION:In 21 Tagen beginnt Ihre Veranstaltung: Séminaire : itc Photov
 oltaik Basic à Francfort le 09.06. - 10.
 06.2026
END:VALARM
BEGIN:VALARM
TRIGGER:-P3D
ACTION:DISPLAY
DESCRIPTION:In 3 Tagen beginnt Ihre Veranstaltung: Séminaire : itc Photovo
 ltaik Basic à Francfort le 09.06. - 10.
 06.2026
END:VALARM
END:VEVENT
END:VCALENDAR