BEGIN:VCALENDAR
VERSION:2.0
PRODID:-//datatec.eu//dataTec Event Planer
CALSCALE:GREGORIAN
BEGIN:VEVENT
DTSTAMP:20260609T000000Z
UID:4dba99f139484c3377acef46cdb2e8ae@datatec.eu
DTSTART;VALUE=DATE:20260609
DTEND;VALUE=DATE:20260611
SUMMARY:Séminaire : Electrothermographie Basic à Francfort du 09.06.-1
 
 0.06.2026
URL:https://www.datatec.eu/ch/fr/datatec-itc-e-basic-f-260609
DESCRIPTION:Séminaire d'électrothermographie itc BASIC | Séminaire de deux
  jours sur l'inspection thermographique des installations élec
 triques le 09 &amp ; 10 juin 2026 dans la région de Francfort/
 Main.
LOCATION:Région de Francfort
BEGIN:VALARM
TRIGGER:-P21D
ACTION:DISPLAY
DESCRIPTION:In 21 Tagen beginnt Ihre Veranstaltung: Séminaire : Electrothe
 rmographie Basic à Francfort du 09.06.-1
 0.06.2026
END:VALARM
BEGIN:VALARM
TRIGGER:-P3D
ACTION:DISPLAY
DESCRIPTION:In 3 Tagen beginnt Ihre Veranstaltung: Séminaire : Electrother
 mographie Basic à Francfort du 09.06.-1
 0.06.2026
END:VALARM
END:VEVENT
END:VCALENDAR