BEGIN:VCALENDAR
VERSION:2.0
PRODID:-//datatec.eu//dataTec Event Planer
CALSCALE:GREGORIAN
BEGIN:VEVENT
DTSTAMP:20260623T000000Z
UID:02c76bc6de3fe01b7c723b1b82fd5168@datatec.eu
DTSTART;VALUE=DATE:20260623
DTEND;VALUE=DATE:20260624
SUMMARY:Thermographie / Imagerie thermique avec Teledyne Flir, séminai
 
 re d'une journée à Reutlingen
URL:https://www.datatec.eu/ch/fr/datatec-th-rt-260623
DESCRIPTION:Séminaire professionnel sur la thermographie / l'imagerie ther
 mique avec notre thermographe certifié le 23 juin 2026 à Reutl
 ingen.
LOCATION:Reutlingen
BEGIN:VALARM
TRIGGER:-P21D
ACTION:DISPLAY
DESCRIPTION:In 21 Tagen beginnt Ihre Veranstaltung: Thermographie / Imager
 ie thermique avec Teledyne Flir, séminai
 re d'une journée à 
 Reutlingen
END:VALARM
BEGIN:VALARM
TRIGGER:-P3D
ACTION:DISPLAY
DESCRIPTION:In 3 Tagen beginnt Ihre Veranstaltung: Thermographie / Imageri
 e thermique avec Teledyne Flir, séminai
 re d'une journée à R
 eutlingen
END:VALARM
END:VEVENT
END:VCALENDAR