BEGIN:VCALENDAR
VERSION:2.0
PRODID:-//datatec.eu//dataTec Event Planer
CALSCALE:GREGORIAN
BEGIN:VEVENT
DTSTAMP:20260630T000000UTC
UID:019d9673d1c17dbfa3e02e5fc0dd5af6@datatec.eu
DTSTART;VALUE=DATE:20260630
DTEND;VALUE=DATE:20260701
SUMMARY:NI Tech Forum Switzerland 2026
URL:https://events.ni.com/profile/web/index.cfm?PKwebID=0x158214abcd&source=datatec
LOCATION:Novotel Zurich City-West
BEGIN:VALARM
TRIGGER:-P21D
ACTION:DISPLAY
DESCRIPTION:Your event starts in 21 days: NI Tech Forum Switzerland 2026
END:VALARM
BEGIN:VALARM
TRIGGER:-P3D
ACTION:DISPLAY
DESCRIPTION:Your event starts in 3 days: NI Tech Forum Switzerland 2026
END:VALARM
END:VEVENT
END:VCALENDAR