BEGIN:VCALENDAR
VERSION:2.0
PRODID:-//datatec.eu//dataTec Event Planer
CALSCALE:GREGORIAN
BEGIN:VEVENT
DTSTAMP:20260909T000000UTC
UID:019d965b0b1b703ebffdcb6d84465217@datatec.eu
DTSTART;VALUE=DATE:20260909
DTEND;VALUE=DATE:20260911
SUMMARY:ineltec Zürich 2026
URL:https://www.ineltec.ch/de
LOCATION:Messe Zürich
BEGIN:VALARM
TRIGGER:-P21D
ACTION:DISPLAY
DESCRIPTION:Your event starts in 21 days: ineltec Zürich 2026
END:VALARM
BEGIN:VALARM
TRIGGER:-P3D
ACTION:DISPLAY
DESCRIPTION:Your event starts in 3 days: ineltec Zürich 2026
END:VALARM
END:VEVENT
END:VCALENDAR