BEGIN:VCALENDAR
VERSION:2.0
PRODID:-//datatec.eu//dataTec Event Planer
CALSCALE:GREGORIAN
BEGIN:VEVENT
DTSTAMP:20260616T000000UTC
UID:019d96548d777553987550662a269438@datatec.eu
DTSTART;VALUE=DATE:20260616
DTEND;VALUE=DATE:20260619
SUMMARY:Powertage 2026
URL:https://www.powertage.ch/en/e/powertage-2026.53396
LOCATION:Messe Zürich
BEGIN:VALARM
TRIGGER:-P21D
ACTION:DISPLAY
DESCRIPTION:Your event starts in 21 days: Powertage 2026
END:VALARM
BEGIN:VALARM
TRIGGER:-P3D
ACTION:DISPLAY
DESCRIPTION:Your event starts in 3 days: Powertage 2026
END:VALARM
END:VEVENT
END:VCALENDAR